BEGIN:VCALENDAR
VERSION:2.0
PRODID:-//185.81.4.152//NONSGML kigkonsult.se iCalcreator 2.20//
CALSCALE:GREGORIAN
METHOD:PUBLISH
X-WR-TIMEZONE:Europe/Rome
BEGIN:VEVENT
UID:event104@Salento Easy
DTSTAMP:20260424T105205Z
CATEGORIES:Intrattenimento
DESCRIPTION:Serata di Pizzica Salentina\nCategory: Intrattenimento\nLink: h
 ttps://www.salentoeasy.it/index.php?option=com_jem&view=event&id=104:serat
 a-di-pizzica-salentina\n
DTSTART;TZID=Europe/Rome:20230627T203000
DTEND;TZID=Europe/Rome:20230912T203000
SUMMARY:Serata di Pizzica Salentina
URL:https://www.salentoeasy.it/index.php?option=com_jem&view=event&id=104:s
 erata-di-pizzica-salentina
END:VEVENT
END:VCALENDAR
