BEGIN:VCALENDAR
VERSION:2.0
PRODID:-//185.81.4.152//NONSGML kigkonsult.se iCalcreator 2.20//
CALSCALE:GREGORIAN
METHOD:PUBLISH
X-WR-TIMEZONE:Europe/Rome
BEGIN:VEVENT
UID:event183@Salento Easy
DTSTAMP:20260424T121901Z
CATEGORIES:Musica
DESCRIPTION:SOLO DI GIOVEDI'    4 concerti da giovedì 9 aprile  al  DON RAY
  CLUB - MELISSANO (LE)  \nCategory: Musica\nLink: https://www.salentoeasy.
 it/index.php?option=com_jem&view=event&id=183:solo-di-giovedi-4-concerti-d
 a-giovedi-9-aprile-al-don-ray-club-melissano-le\n
DTSTART;TZID=Europe/Rome:20260409T201500
DTEND;TZID=Europe/Rome:20260507T201500
SUMMARY:SOLO DI GIOVEDI'    4 concerti da giovedì 9 aprile  al  DON RAY CLU
 B - MELISSANO (LE)  
URL:https://www.salentoeasy.it/index.php?option=com_jem&view=event&id=183:s
 olo-di-giovedi-4-concerti-da-giovedi-9-aprile-al-don-ray-club-melissano-le
END:VEVENT
BEGIN:VEVENT
UID:event182@Salento Easy
DTSTAMP:20260424T121901Z
CATEGORIES:Musica
DESCRIPTION:'KAIROS'    ​SIMONA MOLINARI    ORCHESTRA ICO DELLA MAGNA GRECI
 A    Direttore: Piero Romano    Venerdì 8 maggio\, Teatro Apollo\, Lecce  
 \nCategory: Musica\nLink: https://www.salentoeasy.it/index.php?option=com_
 jem&view=event&id=182:kairos-simona-molinari-orchestra-ico-della-magna-gre
 cia-direttore-piero-romano-venerdi-8-maggio-teatro-apollo-lecce\n
DTSTART;TZID=Europe/Rome:20260508T204500
DTEND;TZID=Europe/Rome:20260508T204500
SUMMARY:'KAIROS'    ​SIMONA MOLINARI    ORCHESTRA ICO DELLA MAGNA GRECIA   
  Direttore: Piero Romano    Venerdì 8 maggio\, Teatro Apollo\, Lecce  
URL:https://www.salentoeasy.it/index.php?option=com_jem&view=event&id=182:k
 airos-simona-molinari-orchestra-ico-della-magna-grecia-direttore-piero-rom
 ano-venerdi-8-maggio-teatro-apollo-lecce
END:VEVENT
BEGIN:VEVENT
UID:event175@Salento Easy
DTSTAMP:20260424T121901Z
CATEGORIES:Musica
DESCRIPTION:Negramaro  UN ULTIMO ABBRACCIO LIVE  UNA STORIA ANCORA SEMPLICE
  TOUR 2026\nCategory: Musica\nLink: https://www.salentoeasy.it/index.php?o
 ption=com_jem&view=event&id=175:negramaro-un-ultimo-abbraccio-live-una-sto
 ria-ancora-semplice-tour-2026\n
DTSTART;VALUE=DATE:20260801
DTEND;VALUE=DATE:20260802
SUMMARY:Negramaro  UN ULTIMO ABBRACCIO LIVE  UNA STORIA ANCORA SEMPLICE TOU
 R 2026
URL:https://www.salentoeasy.it/index.php?option=com_jem&view=event&id=175:n
 egramaro-un-ultimo-abbraccio-live-una-storia-ancora-semplice-tour-2026
END:VEVENT
BEGIN:VEVENT
UID:event172@Salento Easy
DTSTAMP:20260424T121901Z
CATEGORIES:Musica
DESCRIPTION:CAPAREZZA   il 5 agosto 2026   LIVE ALLE CAVE DEL DUCA DI LECCE
    sul palco dell'Oversound Music Festival \nCategory: Musica\nLink: https
 ://www.salentoeasy.it/index.php?option=com_jem&view=event&id=172:caparezza
 -il-5-agosto-2026-live-alle-cave-del-duca-di-lecce-sul-palco-dell-oversoun
 d-music-festival\n
DTSTART;VALUE=DATE:20260805
DTEND;VALUE=DATE:20260806
SUMMARY:CAPAREZZA   il 5 agosto 2026   LIVE ALLE CAVE DEL DUCA DI LECCE   s
 ul palco dell'Oversound Music Festival 
URL:https://www.salentoeasy.it/index.php?option=com_jem&view=event&id=172:c
 aparezza-il-5-agosto-2026-live-alle-cave-del-duca-di-lecce-sul-palco-dell-
 oversound-music-festival
END:VEVENT
BEGIN:VEVENT
UID:event184@Salento Easy
DTSTAMP:20260424T121901Z
CATEGORIES:Musica
DESCRIPTION:NEK HITS LIVE  Il 13 agosto in concerto a Marina Di Mancaversa 
 (LE)   Arena Del Mare\nCategory: Musica\nLink: https://www.salentoeasy.it/
 index.php?option=com_jem&view=event&id=184:nek-hits-live-il-13-agosto-in-c
 oncerto-a-marina-di-mancaversa-le-arena-del-mare\n
DTSTART;VALUE=DATE:20260813
DTEND;VALUE=DATE:20260814
SUMMARY:NEK HITS LIVE  Il 13 agosto in concerto a Marina Di Mancaversa (LE)
    Arena Del Mare
URL:https://www.salentoeasy.it/index.php?option=com_jem&view=event&id=184:n
 ek-hits-live-il-13-agosto-in-concerto-a-marina-di-mancaversa-le-arena-del-
 mare
END:VEVENT
BEGIN:VEVENT
UID:event178@Salento Easy
DTSTAMP:20260424T121901Z
CATEGORIES:Musica
DESCRIPTION:LUCA CARBONI   “RIO ARI O LIVE”   ALLE CAVE DEL DUCA DI LECCE\n
 Category: Musica\nLink: https://www.salentoeasy.it/index.php?option=com_je
 m&view=event&id=178:luca-carboni-rio-ari-o-live-alle-cave-del-duca-di-lecc
 e\n
DTSTART;VALUE=DATE:20260822
DTEND;VALUE=DATE:20260823
SUMMARY:LUCA CARBONI   “RIO ARI O LIVE”   ALLE CAVE DEL DUCA DI LECCE
URL:https://www.salentoeasy.it/index.php?option=com_jem&view=event&id=178:l
 uca-carboni-rio-ari-o-live-alle-cave-del-duca-di-lecce
END:VEVENT
END:VCALENDAR
